BEGIN:VCALENDAR
VERSION:2.0
PRODID:-//SVP Freiburg //NONSGML Events //EN
CALSCALE:GREGORIAN
X-WR-CALNAME:SVP Freiburg
BEGIN:VEVENT
CREATED:20191013T190709Z
UID:1233
DTEND:20201130T210000
DTSTART:20201130T200000
DTSTAMP:20260423T181436Z
LOCATION:
DESCRIPTION:
SUMMARY:Leitendes Büro
ORGANIZER:
URL;VALUE=URI:https://www.svp-fr.ch/aktuell/termine/leitendes-buero-21/
TRANSP:OPAQUE
END:VEVENT
END:VCALENDAR
