BEGIN:VCALENDAR
VERSION:2.0
PRODID:-//SVP Freiburg //NONSGML Events //EN
CALSCALE:GREGORIAN
X-WR-CALNAME:SVP Freiburg
BEGIN:VEVENT
CREATED:20201110T180746Z
UID:1625
DTEND:20210319T180000
DTSTART:20210301T080000
DTSTAMP:20260422T200704Z
LOCATION:Bern
DESCRIPTION:
SUMMARY:Eidg. Session (Frühling)
ORGANIZER:
URL;VALUE=URI:https://www.svp-fr.ch/aktuell/termine/eidg-session-fruehling/
TRANSP:OPAQUE
END:VEVENT
END:VCALENDAR
