BEGIN:VCALENDAR
VERSION:2.0
PRODID:-//SVP Freiburg //NONSGML Events //EN
CALSCALE:GREGORIAN
X-WR-CALNAME:SVP Freiburg
BEGIN:VEVENT
CREATED:20201110T182312Z
UID:1649
DTEND:20211128T130000
DTSTART:20211128T120000
DTSTAMP:20260419T221726Z
LOCATION:Schweiz
DESCRIPTION:
SUMMARY:Eidg. Volksabstimmung
ORGANIZER:
URL;VALUE=URI:https://www.svp-fr.ch/aktuell/termine/eidg-volksabstimmung-5/
TRANSP:OPAQUE
END:VEVENT
END:VCALENDAR
