BEGIN:VCALENDAR
VERSION:2.0
PRODID:-//SVP Freiburg //NONSGML Events //EN
CALSCALE:GREGORIAN
X-WR-CALNAME:SVP Freiburg
BEGIN:VEVENT
CREATED:20220208T103219Z
UID:2274
DTEND:20221011T000000
DTSTART:20221011T000000
DTSTAMP:20260424T092641Z
LOCATION:
DESCRIPTION:
SUMMARY:Fraktionssitzung
ORGANIZER:
URL;VALUE=URI:https://www.svp-fr.ch/aktuell/termine/fraktionssitzung-6/
TRANSP:OPAQUE
END:VEVENT
END:VCALENDAR
