BEGIN:VCALENDAR
VERSION:2.0
PRODID:-//SVP Freiburg //NONSGML Events //EN
CALSCALE:GREGORIAN
X-WR-CALNAME:SVP Freiburg
BEGIN:VEVENT
CREATED:20221221T113816Z
UID:2696
DTEND:20230429T160000
DTSTART:20230428T080000
DTSTAMP:20260423T154802Z
LOCATION:
DESCRIPTION:
SUMMARY:Konferenz der Präsidenten\, Fraktionsvorsitzende und Kantonalsekretäre
ORGANIZER:
URL;VALUE=URI:https://www.svp-fr.ch/aktuell/termine/konferenz-der-praesidenten-fraktionsvorsitzende-und-kantonalsekretaere/
TRANSP:OPAQUE
END:VEVENT
END:VCALENDAR
