BEGIN:VCALENDAR
VERSION:2.0
PRODID:-//SVP Freiburg //NONSGML Events //EN
CALSCALE:GREGORIAN
X-WR-CALNAME:SVP Freiburg
BEGIN:VEVENT
CREATED:20240206T091323Z
UID:8713
DTEND:20240425T000000
DTSTART:20240425T000000
DTSTAMP:20260422T052456Z
LOCATION:
DESCRIPTION:
SUMMARY:GV SVP Greyerz
ORGANIZER:
URL;VALUE=URI:https://www.svp-fr.ch/aktuell/termine/gv-svp-greyerz/
TRANSP:OPAQUE
END:VEVENT
END:VCALENDAR
