BEGIN:VCALENDAR
VERSION:2.0
PRODID:-//SVP Freiburg //NONSGML Events //EN
CALSCALE:GREGORIAN
X-WR-CALNAME:SVP Freiburg
BEGIN:VEVENT
CREATED:20240926T094938Z
UID:8824
DTEND:20250219T190000
DTSTART:20250219T180000
DTSTAMP:20260421T055454Z
LOCATION:
DESCRIPTION:
SUMMARY:Leitendes Büro SVP FR
ORGANIZER:
URL;VALUE=URI:https://www.svp-fr.ch/aktuell/termine/leitendes-buero-svp-fr-12/
TRANSP:OPAQUE
END:VEVENT
END:VCALENDAR
