BEGIN:VCALENDAR
VERSION:2.0
PRODID:-//SVP Freiburg //NONSGML Events //EN
CALSCALE:GREGORIAN
X-WR-CALNAME:SVP Freiburg
BEGIN:VEVENT
CREATED:20240926T094938Z
UID:8838
DTEND:20250827T200000
DTSTART:20250827T193000
DTSTAMP:20260422T065652Z
LOCATION:
DESCRIPTION:
SUMMARY:Vorstand SVP FR
ORGANIZER:
URL;VALUE=URI:https://www.svp-fr.ch/aktuell/termine/vorstand-svp-fr-16/
TRANSP:OPAQUE
END:VEVENT
END:VCALENDAR
