BEGIN:VCALENDAR
VERSION:2.0
PRODID:-//SVP Freiburg //NONSGML Events //EN
CALSCALE:GREGORIAN
X-WR-CALNAME:SVP Freiburg
BEGIN:VEVENT
CREATED:20240926T094939Z
UID:8870
DTEND:20250111T000000
DTSTART:20250110T000000
DTSTAMP:20260422T121333Z
LOCATION:Bad Horn
DESCRIPTION:
SUMMARY:Bad Horn
ORGANIZER:
URL;VALUE=URI:https://www.svp-fr.ch/aktuell/termine/bad-horn/
TRANSP:OPAQUE
END:VEVENT
END:VCALENDAR
