BEGIN:VCALENDAR
VERSION:2.0
PRODID:-//SVP Freiburg //NONSGML Events //EN
CALSCALE:GREGORIAN
X-WR-CALNAME:SVP Freiburg
BEGIN:VEVENT
CREATED:20250717T065057Z
UID:9404
DTEND:20250801T200000
DTSTART:20250801T190000
DTSTAMP:20260424T090351Z
LOCATION:3214 Ulmiz
DESCRIPTION:
SUMMARY:1. August-Rede mit Fraktionspräsident Flavio Bortoluzzi
ORGANIZER:
URL;VALUE=URI:https://www.svp-fr.ch/aktuell/termine/1-august-rede-mit-fraktionspr%ef%bf%bdsident-flavio-bortoluzzi/
TRANSP:OPAQUE
END:VEVENT
END:VCALENDAR
