BEGIN:VCALENDAR
VERSION:2.0
PRODID:-//SVP Freiburg //NONSGML Events //EN
CALSCALE:GREGORIAN
X-WR-CALNAME:SVP Freiburg
BEGIN:VEVENT
CREATED:20260306T104915Z
UID:9720
DTEND:20260429T000000
DTSTART:20260429T000000
DTSTAMP:20260421T073116Z
LOCATION:Gruyère
DESCRIPTION:
SUMMARY:Zentralvorstand &#8211\; SVP FR
ORGANIZER:
URL;VALUE=URI:https://www.svp-fr.ch/aktuell/termine/zentralvorstand-svp-fr-9/
TRANSP:OPAQUE
END:VEVENT
END:VCALENDAR
